BEGIN:VCALENDAR
VERSION:2.0
PRODID:-//Ginger and Baker - ECPv6.8.1//NONSGML v1.0//EN
CALSCALE:GREGORIAN
METHOD:PUBLISH
X-ORIGINAL-URL:https://gingerandbaker.com
X-WR-CALDESC:Events for Ginger and Baker
REFRESH-INTERVAL;VALUE=DURATION:PT1H
X-Robots-Tag:noindex
X-PUBLISHED-TTL:PT1H
BEGIN:VTIMEZONE
TZID:America/Denver
BEGIN:DAYLIGHT
TZOFFSETFROM:-0700
TZOFFSETTO:-0600
TZNAME:MDT
DTSTART:20250309T090000
END:DAYLIGHT
BEGIN:STANDARD
TZOFFSETFROM:-0600
TZOFFSETTO:-0700
TZNAME:MST
DTSTART:20251102T080000
END:STANDARD
END:VTIMEZONE
BEGIN:VEVENT
DTSTART;TZID=America/Denver:20250913T100000
DTEND;TZID=America/Denver:20250913T130000
DTSTAMP:20260420T034425
CREATED:20250612T202046Z
LAST-MODIFIED:20250612T202047Z
UID:10001686-1757757600-1757768400@gingerandbaker.com
SUMMARY:Kid's Cooking Camp: Cast Iron Pizza
DESCRIPTION:Calling all junior chefs: Join us in the Teaching Kitchen as we learn how to make homemade pizza! We’ll make pizza dough from scratch\, two different sauces and toppings\, and finish it all off with a giant cookie and ice cream.  \nThis class is geared for ages 8-14 years old.  \nWhat We’re Making: \n\nPizza Dough\nTraditional Red Sauce Pizza with Mozzarella and Pepperoni\nPesto Pizza with Mozzarella and Chicken\nCast Iron Chocolate Chip Cookies with Vanilla Ice Cream\n\nTake-Aways: \n\nHands-on instruction by a Ginger and Baker Chef.\nRecipe packet full of all the recipes from class to take home.\nTime to eat and enjoy all the delicious food you’ve cooked at the end of class.
URL:https://gingerandbaker.com/my-event/kids-cooking-camp-cast-iron-pizza-2/
LOCATION:The Teaching Kitchen
CATEGORIES:Class
ATTACH;FMTTYPE=image/jpeg:https://gingerandbaker.com/wp-content/uploads/2025/05/Cast-Iron-Pizza.jpg
END:VEVENT
BEGIN:VEVENT
DTSTART;TZID=America/Denver:20250913T173000
DTEND;TZID=America/Denver:20250913T203000
DTSTAMP:20260420T034425
CREATED:20250727T204830Z
LAST-MODIFIED:20250911T173815Z
UID:10001733-1757784600-1757795400@gingerandbaker.com
SUMMARY:Summer in Portugal
DESCRIPTION:Celebrate summer in The Teaching Kitchen with Portuguese Petiscos (think tapas!). This fresh\, summer-inspired meal is perfect for sharing with friends and family over great drinks and conversation. Bring friends or make new ones here in our kitchen as we create and enjoy this beautiful spread together.  \nWhat we’re cooking: \n\nBacalhau (Salt Cod) with Sweet Corn and Littleneck Clams\nHeirloom Tomato Salad\nPica Pau (“Woodpecker” Beef)\nPasteis de Nata (Portuguese Custard Tarts)\n\nTake-aways \n\nHands-on instruction from a Ginger and Baker Chef Instructor.\nA recipe packet with all the menu items from class.\nEnjoy a meal of the items you cooked at the end of class.
URL:https://gingerandbaker.com/my-event/summer-in-portugal-3/
LOCATION:The Teaching Kitchen
CATEGORIES:Class
ATTACH;FMTTYPE=image/jpeg:https://gingerandbaker.com/wp-content/uploads/2025/03/iStock-1211510616-e1742667976714.jpg
END:VEVENT
END:VCALENDAR