BEGIN:VCALENDAR
VERSION:2.0
PRODID:-//Ginger and Baker - ECPv6.15.20//NONSGML v1.0//EN
CALSCALE:GREGORIAN
METHOD:PUBLISH
X-ORIGINAL-URL:https://gingerandbaker.com
X-WR-CALDESC:Events for Ginger and Baker
REFRESH-INTERVAL;VALUE=DURATION:PT1H
X-Robots-Tag:noindex
X-PUBLISHED-TTL:PT1H
BEGIN:VTIMEZONE
TZID:America/Denver
BEGIN:DAYLIGHT
TZOFFSETFROM:-0700
TZOFFSETTO:-0600
TZNAME:MDT
DTSTART:20240310T090000
END:DAYLIGHT
BEGIN:STANDARD
TZOFFSETFROM:-0600
TZOFFSETTO:-0700
TZNAME:MST
DTSTART:20241103T080000
END:STANDARD
BEGIN:DAYLIGHT
TZOFFSETFROM:-0700
TZOFFSETTO:-0600
TZNAME:MDT
DTSTART:20250309T090000
END:DAYLIGHT
BEGIN:STANDARD
TZOFFSETFROM:-0600
TZOFFSETTO:-0700
TZNAME:MST
DTSTART:20251102T080000
END:STANDARD
BEGIN:DAYLIGHT
TZOFFSETFROM:-0700
TZOFFSETTO:-0600
TZNAME:MDT
DTSTART:20260308T090000
END:DAYLIGHT
BEGIN:STANDARD
TZOFFSETFROM:-0600
TZOFFSETTO:-0700
TZNAME:MST
DTSTART:20261101T080000
END:STANDARD
END:VTIMEZONE
BEGIN:VEVENT
DTSTART;TZID=America/Denver:20250911T173000
DTEND;TZID=America/Denver:20250911T203000
DTSTAMP:20260422T061032
CREATED:20250612T201118Z
LAST-MODIFIED:20250726T165518Z
UID:10001685-1757611800-1757622600@gingerandbaker.com
SUMMARY:Perfect Steak
DESCRIPTION:Join us in the Teaching Kitchen as we learn how to cook a perfect steak with all the fixings! Discover the secrets to create a restaurant-quality steak dinner at home\, including how to cook to your ideal temperature without any guesswork.  \nWhat We’re Cooking: \n\nSeasonal Salad\nSeared Beef Tenderloin with Chimichurri Sauce\nHerb-Roasted Fingerling Potatoes\nApple Tarte Tatin\n\nTake-Aways: \n\nHands-on instruction by a Ginger and Baker chef instructor.\nA recipe packet with all the menu items from class.\nEnjoy a meal of the items you cooked at the end of class.
URL:https://gingerandbaker.com/my-event/perfect-steak-6/
LOCATION:The Teaching Kitchen
CATEGORIES:Class
ATTACH;FMTTYPE=image/jpeg:https://gingerandbaker.com/wp-content/uploads/2024/05/Steak-with-Chimichurri.jpg
END:VEVENT
END:VCALENDAR