BEGIN:VCALENDAR
VERSION:2.0
PRODID:-//Ginger and Baker - ECPv6.8.1//NONSGML v1.0//EN
CALSCALE:GREGORIAN
METHOD:PUBLISH
X-ORIGINAL-URL:https://gingerandbaker.com
X-WR-CALDESC:Events for Ginger and Baker
REFRESH-INTERVAL;VALUE=DURATION:PT1H
X-Robots-Tag:noindex
X-PUBLISHED-TTL:PT1H
BEGIN:VTIMEZONE
TZID:America/Denver
BEGIN:DAYLIGHT
TZOFFSETFROM:-0700
TZOFFSETTO:-0600
TZNAME:MDT
DTSTART:20250309T090000
END:DAYLIGHT
BEGIN:STANDARD
TZOFFSETFROM:-0600
TZOFFSETTO:-0700
TZNAME:MST
DTSTART:20251102T080000
END:STANDARD
END:VTIMEZONE
BEGIN:VEVENT
DTSTART;TZID=America/Denver:20250820T173000
DTEND;TZID=America/Denver:20250820T203000
DTSTAMP:20260420T080217
CREATED:20250503T193827Z
LAST-MODIFIED:20250715T133611Z
UID:10001657-1755711000-1755721800@gingerandbaker.com
SUMMARY:Tasty Thai
DESCRIPTION:Bring your date\, grab a friend or make new friends here in the Teaching Kitchen as we take a delicious culinary journey exploring classic Thai favorites! \n\n\n\n\n\nWhat We’re Cooking: \n\nTom Kha Gai Soup (Thai Coconut Chicken Soup)\nRainbow Veggie Spring Rolls w/ Peanut Sauce\nClassic Chicken Pad Thai\n\nTake-Aways: \n\nHands-on instruction by a Ginger and Baker chef instructor.\nA recipe packet with all the menu items from class.\nEnjoy a meal of the items you cooked at the end of class and takeaway your leftovers.
URL:https://gingerandbaker.com/my-event/tasty-thai/
LOCATION:The Teaching Kitchen
CATEGORIES:Class
ATTACH;FMTTYPE=image/jpeg:https://gingerandbaker.com/wp-content/uploads/2025/03/Thai-Spring-Rolls.jpg
END:VEVENT
END:VCALENDAR