BEGIN:VCALENDAR
VERSION:2.0
PRODID:-//Ginger and Baker - ECPv6.15.20//NONSGML v1.0//EN
CALSCALE:GREGORIAN
METHOD:PUBLISH
X-WR-CALNAME:Ginger and Baker
X-ORIGINAL-URL:https://gingerandbaker.com
X-WR-CALDESC:Events for Ginger and Baker
REFRESH-INTERVAL;VALUE=DURATION:PT1H
X-Robots-Tag:noindex
X-PUBLISHED-TTL:PT1H
BEGIN:VTIMEZONE
TZID:America/Denver
BEGIN:DAYLIGHT
TZOFFSETFROM:-0700
TZOFFSETTO:-0600
TZNAME:MDT
DTSTART:20240310T090000
END:DAYLIGHT
BEGIN:STANDARD
TZOFFSETFROM:-0600
TZOFFSETTO:-0700
TZNAME:MST
DTSTART:20241103T080000
END:STANDARD
BEGIN:DAYLIGHT
TZOFFSETFROM:-0700
TZOFFSETTO:-0600
TZNAME:MDT
DTSTART:20250309T090000
END:DAYLIGHT
BEGIN:STANDARD
TZOFFSETFROM:-0600
TZOFFSETTO:-0700
TZNAME:MST
DTSTART:20251102T080000
END:STANDARD
BEGIN:DAYLIGHT
TZOFFSETFROM:-0700
TZOFFSETTO:-0600
TZNAME:MDT
DTSTART:20260308T090000
END:DAYLIGHT
BEGIN:STANDARD
TZOFFSETFROM:-0600
TZOFFSETTO:-0700
TZNAME:MST
DTSTART:20261101T080000
END:STANDARD
END:VTIMEZONE
BEGIN:VEVENT
DTSTART;TZID=America/Denver:20250817T100000
DTEND;TZID=America/Denver:20250817T130000
DTSTAMP:20260422T055457
CREATED:20250517T202422Z
LAST-MODIFIED:20250815T142114Z
UID:10001678-1755424800-1755435600@gingerandbaker.com
SUMMARY:Peach Lattice Pie
DESCRIPTION:Bring a friend or make new ones here in the Teaching Kitchen as we celebrate peach season the best way we know how to–with pie! In this class\, you’ll learn all the tricks to making the perfect flaky and tender pie crust\, practice your lattice technique\, and we’ll make some peach hand pies to enjoy in class with ice cream! Each guest will get to take home their own pie masterpiece to share (or not!). \n\nThere will be a server in the room if you’d like to order food and drinks to enjoy while we bake!\nWhat We’re Cooking: \n\nPeach Lattice Pie\n\nG&B Traditional Pie Dough\nPeach Filling\n\n\nPeach Hand Pies\n\nwith Vanilla Ice Cream\n\n\n\nTake-Aways: \n\nHands-on instruction by a Ginger and Baker Chef Instructor\nTake home the items you baked at the end of class\nA take-home recipe packet with all the menu items from class
URL:https://gingerandbaker.com/my-event/peach-lattice-pie-2/
LOCATION:The Teaching Kitchen
CATEGORIES:Class
ATTACH;FMTTYPE=image/jpeg:https://gingerandbaker.com/wp-content/uploads/2020/08/peach-pies.jpeg
END:VEVENT
BEGIN:VEVENT
DTSTART;TZID=America/Denver:20250817T173000
DTEND;TZID=America/Denver:20250817T203000
DTSTAMP:20260422T055457
CREATED:20250503T192514Z
LAST-MODIFIED:20250503T193105Z
UID:10001656-1755451800-1755462600@gingerandbaker.com
SUMMARY:Greek Night
DESCRIPTION:Grab a friend or bring your partner and take a trip to Greece for the evening! Tonight’s menu offers an explosion of flavors with  fresh\, tangy\, creamy\, crispy elements coming together in a beautiful meal. Opa! \nWhat We’re Cooking: \n\nQuinoa Tabbouleh Salad\nPork Meatballs w/ Pita Bread\nTzatziki\nFalafel\nBaklava\n\nTake-aways: \n\nHands-on instruction from a Ginger and Baker Chef Instructor\nA recipe packet with all the menu items from class.\nEnjoy a meal of the items you cooked at the end of class.
URL:https://gingerandbaker.com/my-event/greek-night-2/
LOCATION:The Teaching Kitchen
CATEGORIES:Class
ATTACH;FMTTYPE=image/jpeg:https://gingerandbaker.com/wp-content/uploads/2025/03/iStock-2154331405.jpg
END:VEVENT
END:VCALENDAR