BEGIN:VCALENDAR
VERSION:2.0
PRODID:-//Ginger and Baker - ECPv6.15.20//NONSGML v1.0//EN
CALSCALE:GREGORIAN
METHOD:PUBLISH
X-WR-CALNAME:Ginger and Baker
X-ORIGINAL-URL:https://gingerandbaker.com
X-WR-CALDESC:Events for Ginger and Baker
REFRESH-INTERVAL;VALUE=DURATION:PT1H
X-Robots-Tag:noindex
X-PUBLISHED-TTL:PT1H
BEGIN:VTIMEZONE
TZID:America/Denver
BEGIN:DAYLIGHT
TZOFFSETFROM:-0700
TZOFFSETTO:-0600
TZNAME:MDT
DTSTART:20240310T090000
END:DAYLIGHT
BEGIN:STANDARD
TZOFFSETFROM:-0600
TZOFFSETTO:-0700
TZNAME:MST
DTSTART:20241103T080000
END:STANDARD
BEGIN:DAYLIGHT
TZOFFSETFROM:-0700
TZOFFSETTO:-0600
TZNAME:MDT
DTSTART:20250309T090000
END:DAYLIGHT
BEGIN:STANDARD
TZOFFSETFROM:-0600
TZOFFSETTO:-0700
TZNAME:MST
DTSTART:20251102T080000
END:STANDARD
BEGIN:DAYLIGHT
TZOFFSETFROM:-0700
TZOFFSETTO:-0600
TZNAME:MDT
DTSTART:20260308T090000
END:DAYLIGHT
BEGIN:STANDARD
TZOFFSETFROM:-0600
TZOFFSETTO:-0700
TZNAME:MST
DTSTART:20261101T080000
END:STANDARD
END:VTIMEZONE
BEGIN:VEVENT
DTSTART;TZID=America/Denver:20250813T110000
DTEND;TZID=America/Denver:20250813T140000
DTSTAMP:20260422T055646
CREATED:20250808T160723Z
LAST-MODIFIED:20250808T160724Z
UID:10001743-1755082800-1755093600@gingerandbaker.com
SUMMARY:Booked for a Private Event
DESCRIPTION:The Teaching Kitchen is booked for a private event on this date.\nPrivate events are a fun way to celebrate a birthday\, baby shower\, wedding\, mom’s night out\, kids’ party\, friends’ gathering\, teambuilding event and more! Send us an inquiry at teachingkitchen@gingerandbaker.com or 970.223.7437 option 4 to learn more.
URL:https://gingerandbaker.com/my-event/booked-for-a-private-event-45/
LOCATION:The Teaching Kitchen
CATEGORIES:Class
ATTACH;FMTTYPE=image/jpeg:https://gingerandbaker.com/wp-content/uploads/2017/09/TK6.jpg
END:VEVENT
BEGIN:VEVENT
DTSTART;TZID=America/Denver:20250813T173000
DTEND;TZID=America/Denver:20250813T203000
DTSTAMP:20260422T055646
CREATED:20250502T200118Z
LAST-MODIFIED:20250502T200119Z
UID:10001652-1755106200-1755117000@gingerandbaker.com
SUMMARY:Cast Iron Pizza
DESCRIPTION:Who doesn’t love a great pizza? Tonight we’ll take pizza creation to another level.  Join us in the Ginger and Baker Teaching Kitchen as you learn all the ins and outs of making a delicious pizza. From crispy\, chewy crust to learning two fast sauce options\, you can’t go wrong with this class. Plus\, learn how to create a gorgeous salad to go with your pizza and a delicious lemon posset for dessert! \nWhat We’re Making: \n\nSeasonal Market Salad\nPizza Dough\nClassic Tomato Sauce Pizza – topped with mozzarella\, parmesan\, fresh basil and prosciutto\nCreamy Garlic White Sauce Pizza – topped with shredded chicken breast\, roasted garlic and feta\nZabaglione (Marsala Wine Custard) with Peaches\n\nTake-Aways: \n\nHands on instruction by a Ginger and Baker Chef Instructor\nRecipe packet full of all the recipes from class to take home\nTime to eat and enjoy all the delicious food you’ve cooked at the end of class
URL:https://gingerandbaker.com/my-event/cast-iron-pizza-2/
LOCATION:The Teaching Kitchen
CATEGORIES:Class
ATTACH;FMTTYPE=image/jpeg:https://gingerandbaker.com/wp-content/uploads/2024/05/Pizza-scaled.jpg
END:VEVENT
END:VCALENDAR