BEGIN:VCALENDAR
VERSION:2.0
PRODID:-//Ginger and Baker - ECPv6.8.1//NONSGML v1.0//EN
CALSCALE:GREGORIAN
METHOD:PUBLISH
X-ORIGINAL-URL:https://gingerandbaker.com
X-WR-CALDESC:Events for Ginger and Baker
REFRESH-INTERVAL;VALUE=DURATION:PT1H
X-Robots-Tag:noindex
X-PUBLISHED-TTL:PT1H
BEGIN:VTIMEZONE
TZID:America/Denver
BEGIN:DAYLIGHT
TZOFFSETFROM:-0700
TZOFFSETTO:-0600
TZNAME:MDT
DTSTART:20250309T090000
END:DAYLIGHT
BEGIN:STANDARD
TZOFFSETFROM:-0600
TZOFFSETTO:-0700
TZNAME:MST
DTSTART:20251102T080000
END:STANDARD
END:VTIMEZONE
BEGIN:VEVENT
DTSTART;TZID=America/Denver:20250710T173000
DTEND;TZID=America/Denver:20250710T203000
DTSTAMP:20260420T083339
CREATED:20250530T161243Z
LAST-MODIFIED:20250710T215703Z
UID:10001679-1752168600-1752179400@gingerandbaker.com
SUMMARY:Mexican Street Food
DESCRIPTION:Join us in The Teaching Kitchen as we bond with family and friends over fun Mexican-inspired recipes that you can easily recreate at home for years to come. Grab your partner or come and meet new friends in the Teaching Kitchen! You will learn fresh new techniques and enjoy a great meal. \nWhat we’re cooking: \n\nChicken Green Chile Sopes\nAvocado Crema\nPico de Gallo\nMexican Street Corn\nChurros with Caramel Sauce\n\nTake-aways \n\nHands-on instruction from a Ginger and Baker Chef Instructor.\nA recipe packet with all the menu items from class.\nEnjoy a meal of the items you cooked at the end of class.
URL:https://gingerandbaker.com/my-event/mexican-street-food-5/
LOCATION:The Teaching Kitchen
CATEGORIES:Class
ATTACH;FMTTYPE=image/jpeg:https://gingerandbaker.com/wp-content/uploads/2024/05/Mexican-Street-Corn.jpg
END:VEVENT
END:VCALENDAR